BEGIN:VCALENDAR
VERSION:2.0
PRODID:-//81.169.145.72//NONSGML kigkonsult.se iCalcreator 2.20//
CALSCALE:GREGORIAN
METHOD:PUBLISH
X-WR-TIMEZONE:Europe/Berlin
BEGIN:VEVENT
UID:event162@Frauentouren
DTSTAMP:20260423T010710Z
CATEGORIES:Führung
DESCRIPTION:Frauen am Landwehrkanal\nKategorie: Führung\nICS-Link: https://
 frauentouren.de/index.php?option=com_jem&view=event&id=162:frauen-am-landw
 ehrkanal\n
DTSTART;TZID=Europe/Berlin:20260919T140000
DTEND;TZID=Europe/Berlin:20260919T160000
LOCATION:Brunnen\, Grimm-/Urbanstraße\,Grimmstraße\,10967 Berlin-Kreuzberg
SUMMARY:Frauen am Landwehrkanal
URL:https://frauentouren.de/index.php?option=com_jem&view=event&id=162:frau
 en-am-landwehrkanal
END:VEVENT
END:VCALENDAR