BEGIN:VCALENDAR
VERSION:2.0
PRODID:-//81.169.145.72//NONSGML kigkonsult.se iCalcreator 2.20//
CALSCALE:GREGORIAN
METHOD:PUBLISH
X-WR-TIMEZONE:Europe/Berlin
BEGIN:VEVENT
UID:event167@Frauentouren
DTSTAMP:20260420T144645Z
CATEGORIES:Führung
DESCRIPTION:Tag der Befreiung\nKategorie: Führung\nICS-Link: https://frauen
 touren.de/index.php?option=com_jem&view=event&id=167:tag-der-befreiung\n
DTSTART;TZID=Europe/Berlin:20260508T170000
DTEND;TZID=Europe/Berlin:20260508T170000
SUMMARY:Tag der Befreiung
URL:https://frauentouren.de/index.php?option=com_jem&view=event&id=167:tag-
 der-befreiung
END:VEVENT
END:VCALENDAR